BEGIN:VCALENDAR
VERSION:2.0
PRODID:-//Gemeinde Niederviehbach - ECPv6.6.4.1//NONSGML v1.0//EN
CALSCALE:GREGORIAN
METHOD:PUBLISH
X-ORIGINAL-URL:https://www.niederviehbach.de
X-WR-CALDESC:Veranstaltungen für Gemeinde Niederviehbach
REFRESH-INTERVAL;VALUE=DURATION:PT1H
X-Robots-Tag:noindex
X-PUBLISHED-TTL:PT1H
BEGIN:VTIMEZONE
TZID:Europe/Berlin
BEGIN:DAYLIGHT
TZOFFSETFROM:+0100
TZOFFSETTO:+0200
TZNAME:CEST
DTSTART:20250330T010000
END:DAYLIGHT
BEGIN:STANDARD
TZOFFSETFROM:+0200
TZOFFSETTO:+0100
TZNAME:CET
DTSTART:20251026T010000
END:STANDARD
END:VTIMEZONE
BEGIN:VEVENT
DTSTART;TZID=Europe/Berlin:20251026T000000
DTEND;TZID=Europe/Berlin:20251026T000000
DTSTAMP:20260423T133817
CREATED:20250602T073325Z
LAST-MODIFIED:20250602T073325Z
UID:8679-1761436800-1761436800@www.niederviehbach.de
SUMMARY:Mostfest OGV Niederviehbach für Mitglieder
DESCRIPTION:
URL:https://www.niederviehbach.de/veranstaltung/mostfest-ogv-niederviehbach-fuer-mitglieder/
LOCATION:Viehbachhalle\, Niederviehbach\, 84183
END:VEVENT
END:VCALENDAR